BEGIN:VCALENDAR
VERSION:2.0
PRODID:-//Martin Athletic Training - ECPv6.15.20//NONSGML v1.0//EN
CALSCALE:GREGORIAN
METHOD:PUBLISH
X-ORIGINAL-URL:https://martinathletictraining.com
X-WR-CALDESC:Events for Martin Athletic Training
REFRESH-INTERVAL;VALUE=DURATION:PT1H
X-Robots-Tag:noindex
X-PUBLISHED-TTL:PT1H
BEGIN:VTIMEZONE
TZID:UTC
BEGIN:STANDARD
TZOFFSETFROM:+0000
TZOFFSETTO:+0000
TZNAME:UTC
DTSTART:20250101T000000
END:STANDARD
END:VTIMEZONE
BEGIN:VEVENT
DTSTART;TZID=UTC:20260601T070000
DTEND;TZID=UTC:20260601T075000
DTSTAMP:20260422T144302
CREATED:20260401T204603Z
LAST-MODIFIED:20260401T204818Z
UID:10012560-1780297200-1780300200@martinathletictraining.com
SUMMARY:ABIDE Pilates
DESCRIPTION:45 – 50 minute pilates class let by the ABIDE team.
URL:https://martinathletictraining.com/event/abide-pilates-5-2/2026-06-01/
LOCATION:MAT Gym\, 761 NW Federal Hwy\, Stuart\, FL\, 34994\, United States
END:VEVENT
BEGIN:VEVENT
DTSTART;TZID=UTC:20260601T100000
DTEND;TZID=UTC:20260601T105000
DTSTAMP:20260422T144302
CREATED:20260401T205424Z
LAST-MODIFIED:20260401T205429Z
UID:10013848-1780308000-1780311000@martinathletictraining.com
SUMMARY:ABIDE Pilates
DESCRIPTION:45 – 50 minute pilates class let by the ABIDE team.
URL:https://martinathletictraining.com/event/abide-pilates-4-2/2026-06-01/
LOCATION:MAT Gym\, 761 NW Federal Hwy\, Stuart\, FL\, 34994\, United States
END:VEVENT
BEGIN:VEVENT
DTSTART;TZID=UTC:20260602T070000
DTEND;TZID=UTC:20260602T075000
DTSTAMP:20260422T144302
CREATED:20260401T204603Z
LAST-MODIFIED:20260401T204818Z
UID:10012561-1780383600-1780386600@martinathletictraining.com
SUMMARY:ABIDE Pilates
DESCRIPTION:45 – 50 minute pilates class let by the ABIDE team.
URL:https://martinathletictraining.com/event/abide-pilates-5-2/2026-06-02/
LOCATION:MAT Gym\, 761 NW Federal Hwy\, Stuart\, FL\, 34994\, United States
END:VEVENT
BEGIN:VEVENT
DTSTART;TZID=UTC:20260602T100000
DTEND;TZID=UTC:20260602T105000
DTSTAMP:20260422T144302
CREATED:20260401T205424Z
LAST-MODIFIED:20260401T205429Z
UID:10013849-1780394400-1780397400@martinathletictraining.com
SUMMARY:ABIDE Pilates
DESCRIPTION:45 – 50 minute pilates class let by the ABIDE team.
URL:https://martinathletictraining.com/event/abide-pilates-4-2/2026-06-02/
LOCATION:MAT Gym\, 761 NW Federal Hwy\, Stuart\, FL\, 34994\, United States
END:VEVENT
BEGIN:VEVENT
DTSTART;TZID=UTC:20260603T070000
DTEND;TZID=UTC:20260603T075000
DTSTAMP:20260422T144302
CREATED:20260401T204603Z
LAST-MODIFIED:20260401T204818Z
UID:10012562-1780470000-1780473000@martinathletictraining.com
SUMMARY:ABIDE Pilates
DESCRIPTION:45 – 50 minute pilates class let by the ABIDE team.
URL:https://martinathletictraining.com/event/abide-pilates-5-2/2026-06-03/
LOCATION:MAT Gym\, 761 NW Federal Hwy\, Stuart\, FL\, 34994\, United States
END:VEVENT
BEGIN:VEVENT
DTSTART;TZID=UTC:20260603T100000
DTEND;TZID=UTC:20260603T105000
DTSTAMP:20260422T144302
CREATED:20260401T205424Z
LAST-MODIFIED:20260401T205429Z
UID:10013850-1780480800-1780483800@martinathletictraining.com
SUMMARY:ABIDE Pilates
DESCRIPTION:45 – 50 minute pilates class let by the ABIDE team.
URL:https://martinathletictraining.com/event/abide-pilates-4-2/2026-06-03/
LOCATION:MAT Gym\, 761 NW Federal Hwy\, Stuart\, FL\, 34994\, United States
END:VEVENT
BEGIN:VEVENT
DTSTART;TZID=UTC:20260604T070000
DTEND;TZID=UTC:20260604T075000
DTSTAMP:20260422T144302
CREATED:20260401T204603Z
LAST-MODIFIED:20260401T204818Z
UID:10012563-1780556400-1780559400@martinathletictraining.com
SUMMARY:ABIDE Pilates
DESCRIPTION:45 – 50 minute pilates class let by the ABIDE team.
URL:https://martinathletictraining.com/event/abide-pilates-5-2/2026-06-04/
LOCATION:MAT Gym\, 761 NW Federal Hwy\, Stuart\, FL\, 34994\, United States
END:VEVENT
BEGIN:VEVENT
DTSTART;TZID=UTC:20260604T183000
DTEND;TZID=UTC:20260604T192000
DTSTAMP:20260422T144302
CREATED:20260401T205547Z
LAST-MODIFIED:20260401T205723Z
UID:10014614-1780597800-1780600800@martinathletictraining.com
SUMMARY:ABIDE Pilates
DESCRIPTION:45 – 50 minute pilates class let by the ABIDE team.
URL:https://martinathletictraining.com/event/abide-pilates-4-3/2026-06-04/
LOCATION:MAT Gym\, 761 NW Federal Hwy\, Stuart\, FL\, 34994\, United States
END:VEVENT
BEGIN:VEVENT
DTSTART;TZID=UTC:20260605T070000
DTEND;TZID=UTC:20260605T075000
DTSTAMP:20260422T144302
CREATED:20260401T204603Z
LAST-MODIFIED:20260401T204818Z
UID:10012564-1780642800-1780645800@martinathletictraining.com
SUMMARY:ABIDE Pilates
DESCRIPTION:45 – 50 minute pilates class let by the ABIDE team.
URL:https://martinathletictraining.com/event/abide-pilates-5-2/2026-06-05/
LOCATION:MAT Gym\, 761 NW Federal Hwy\, Stuart\, FL\, 34994\, United States
END:VEVENT
BEGIN:VEVENT
DTSTART;TZID=UTC:20260608T070000
DTEND;TZID=UTC:20260608T075000
DTSTAMP:20260422T144302
CREATED:20260401T204603Z
LAST-MODIFIED:20260401T204818Z
UID:10012565-1780902000-1780905000@martinathletictraining.com
SUMMARY:ABIDE Pilates
DESCRIPTION:45 – 50 minute pilates class let by the ABIDE team.
URL:https://martinathletictraining.com/event/abide-pilates-5-2/2026-06-08/
LOCATION:MAT Gym\, 761 NW Federal Hwy\, Stuart\, FL\, 34994\, United States
END:VEVENT
BEGIN:VEVENT
DTSTART;TZID=UTC:20260608T100000
DTEND;TZID=UTC:20260608T105000
DTSTAMP:20260422T144302
CREATED:20260401T205424Z
LAST-MODIFIED:20260401T205429Z
UID:10013851-1780912800-1780915800@martinathletictraining.com
SUMMARY:ABIDE Pilates
DESCRIPTION:45 – 50 minute pilates class let by the ABIDE team.
URL:https://martinathletictraining.com/event/abide-pilates-4-2/2026-06-08/
LOCATION:MAT Gym\, 761 NW Federal Hwy\, Stuart\, FL\, 34994\, United States
END:VEVENT
BEGIN:VEVENT
DTSTART;TZID=UTC:20260609T070000
DTEND;TZID=UTC:20260609T075000
DTSTAMP:20260422T144302
CREATED:20260401T204603Z
LAST-MODIFIED:20260401T204818Z
UID:10012566-1780988400-1780991400@martinathletictraining.com
SUMMARY:ABIDE Pilates
DESCRIPTION:45 – 50 minute pilates class let by the ABIDE team.
URL:https://martinathletictraining.com/event/abide-pilates-5-2/2026-06-09/
LOCATION:MAT Gym\, 761 NW Federal Hwy\, Stuart\, FL\, 34994\, United States
END:VEVENT
BEGIN:VEVENT
DTSTART;TZID=UTC:20260609T100000
DTEND;TZID=UTC:20260609T105000
DTSTAMP:20260422T144302
CREATED:20260401T205424Z
LAST-MODIFIED:20260401T205429Z
UID:10013852-1780999200-1781002200@martinathletictraining.com
SUMMARY:ABIDE Pilates
DESCRIPTION:45 – 50 minute pilates class let by the ABIDE team.
URL:https://martinathletictraining.com/event/abide-pilates-4-2/2026-06-09/
LOCATION:MAT Gym\, 761 NW Federal Hwy\, Stuart\, FL\, 34994\, United States
END:VEVENT
BEGIN:VEVENT
DTSTART;TZID=UTC:20260610T070000
DTEND;TZID=UTC:20260610T075000
DTSTAMP:20260422T144302
CREATED:20260401T204603Z
LAST-MODIFIED:20260401T204818Z
UID:10012567-1781074800-1781077800@martinathletictraining.com
SUMMARY:ABIDE Pilates
DESCRIPTION:45 – 50 minute pilates class let by the ABIDE team.
URL:https://martinathletictraining.com/event/abide-pilates-5-2/2026-06-10/
LOCATION:MAT Gym\, 761 NW Federal Hwy\, Stuart\, FL\, 34994\, United States
END:VEVENT
BEGIN:VEVENT
DTSTART;TZID=UTC:20260610T100000
DTEND;TZID=UTC:20260610T105000
DTSTAMP:20260422T144302
CREATED:20260401T205424Z
LAST-MODIFIED:20260401T205429Z
UID:10013853-1781085600-1781088600@martinathletictraining.com
SUMMARY:ABIDE Pilates
DESCRIPTION:45 – 50 minute pilates class let by the ABIDE team.
URL:https://martinathletictraining.com/event/abide-pilates-4-2/2026-06-10/
LOCATION:MAT Gym\, 761 NW Federal Hwy\, Stuart\, FL\, 34994\, United States
END:VEVENT
BEGIN:VEVENT
DTSTART;TZID=UTC:20260611T070000
DTEND;TZID=UTC:20260611T075000
DTSTAMP:20260422T144302
CREATED:20260401T204603Z
LAST-MODIFIED:20260401T204818Z
UID:10012568-1781161200-1781164200@martinathletictraining.com
SUMMARY:ABIDE Pilates
DESCRIPTION:45 – 50 minute pilates class let by the ABIDE team.
URL:https://martinathletictraining.com/event/abide-pilates-5-2/2026-06-11/
LOCATION:MAT Gym\, 761 NW Federal Hwy\, Stuart\, FL\, 34994\, United States
END:VEVENT
BEGIN:VEVENT
DTSTART;TZID=UTC:20260611T183000
DTEND;TZID=UTC:20260611T192000
DTSTAMP:20260422T144302
CREATED:20260401T205547Z
LAST-MODIFIED:20260401T205723Z
UID:10014615-1781202600-1781205600@martinathletictraining.com
SUMMARY:ABIDE Pilates
DESCRIPTION:45 – 50 minute pilates class let by the ABIDE team.
URL:https://martinathletictraining.com/event/abide-pilates-4-3/2026-06-11/
LOCATION:MAT Gym\, 761 NW Federal Hwy\, Stuart\, FL\, 34994\, United States
END:VEVENT
BEGIN:VEVENT
DTSTART;TZID=UTC:20260612T070000
DTEND;TZID=UTC:20260612T075000
DTSTAMP:20260422T144302
CREATED:20260401T204603Z
LAST-MODIFIED:20260401T204818Z
UID:10012569-1781247600-1781250600@martinathletictraining.com
SUMMARY:ABIDE Pilates
DESCRIPTION:45 – 50 minute pilates class let by the ABIDE team.
URL:https://martinathletictraining.com/event/abide-pilates-5-2/2026-06-12/
LOCATION:MAT Gym\, 761 NW Federal Hwy\, Stuart\, FL\, 34994\, United States
END:VEVENT
BEGIN:VEVENT
DTSTART;TZID=UTC:20260615T070000
DTEND;TZID=UTC:20260615T075000
DTSTAMP:20260422T144302
CREATED:20260401T204603Z
LAST-MODIFIED:20260401T204818Z
UID:10012570-1781506800-1781509800@martinathletictraining.com
SUMMARY:ABIDE Pilates
DESCRIPTION:45 – 50 minute pilates class let by the ABIDE team.
URL:https://martinathletictraining.com/event/abide-pilates-5-2/2026-06-15/
LOCATION:MAT Gym\, 761 NW Federal Hwy\, Stuart\, FL\, 34994\, United States
END:VEVENT
BEGIN:VEVENT
DTSTART;TZID=UTC:20260615T100000
DTEND;TZID=UTC:20260615T105000
DTSTAMP:20260422T144302
CREATED:20260401T205424Z
LAST-MODIFIED:20260401T205429Z
UID:10013854-1781517600-1781520600@martinathletictraining.com
SUMMARY:ABIDE Pilates
DESCRIPTION:45 – 50 minute pilates class let by the ABIDE team.
URL:https://martinathletictraining.com/event/abide-pilates-4-2/2026-06-15/
LOCATION:MAT Gym\, 761 NW Federal Hwy\, Stuart\, FL\, 34994\, United States
END:VEVENT
BEGIN:VEVENT
DTSTART;TZID=UTC:20260616T070000
DTEND;TZID=UTC:20260616T075000
DTSTAMP:20260422T144302
CREATED:20260401T204603Z
LAST-MODIFIED:20260401T204818Z
UID:10012571-1781593200-1781596200@martinathletictraining.com
SUMMARY:ABIDE Pilates
DESCRIPTION:45 – 50 minute pilates class let by the ABIDE team.
URL:https://martinathletictraining.com/event/abide-pilates-5-2/2026-06-16/
LOCATION:MAT Gym\, 761 NW Federal Hwy\, Stuart\, FL\, 34994\, United States
END:VEVENT
BEGIN:VEVENT
DTSTART;TZID=UTC:20260616T100000
DTEND;TZID=UTC:20260616T105000
DTSTAMP:20260422T144302
CREATED:20260401T205424Z
LAST-MODIFIED:20260401T205429Z
UID:10013855-1781604000-1781607000@martinathletictraining.com
SUMMARY:ABIDE Pilates
DESCRIPTION:45 – 50 minute pilates class let by the ABIDE team.
URL:https://martinathletictraining.com/event/abide-pilates-4-2/2026-06-16/
LOCATION:MAT Gym\, 761 NW Federal Hwy\, Stuart\, FL\, 34994\, United States
END:VEVENT
BEGIN:VEVENT
DTSTART;TZID=UTC:20260617T070000
DTEND;TZID=UTC:20260617T075000
DTSTAMP:20260422T144302
CREATED:20260401T204603Z
LAST-MODIFIED:20260401T204818Z
UID:10012572-1781679600-1781682600@martinathletictraining.com
SUMMARY:ABIDE Pilates
DESCRIPTION:45 – 50 minute pilates class let by the ABIDE team.
URL:https://martinathletictraining.com/event/abide-pilates-5-2/2026-06-17/
LOCATION:MAT Gym\, 761 NW Federal Hwy\, Stuart\, FL\, 34994\, United States
END:VEVENT
BEGIN:VEVENT
DTSTART;TZID=UTC:20260617T100000
DTEND;TZID=UTC:20260617T105000
DTSTAMP:20260422T144302
CREATED:20260401T205424Z
LAST-MODIFIED:20260401T205429Z
UID:10013856-1781690400-1781693400@martinathletictraining.com
SUMMARY:ABIDE Pilates
DESCRIPTION:45 – 50 minute pilates class let by the ABIDE team.
URL:https://martinathletictraining.com/event/abide-pilates-4-2/2026-06-17/
LOCATION:MAT Gym\, 761 NW Federal Hwy\, Stuart\, FL\, 34994\, United States
END:VEVENT
BEGIN:VEVENT
DTSTART;TZID=UTC:20260618T070000
DTEND;TZID=UTC:20260618T075000
DTSTAMP:20260422T144302
CREATED:20260401T204603Z
LAST-MODIFIED:20260401T204818Z
UID:10012573-1781766000-1781769000@martinathletictraining.com
SUMMARY:ABIDE Pilates
DESCRIPTION:45 – 50 minute pilates class let by the ABIDE team.
URL:https://martinathletictraining.com/event/abide-pilates-5-2/2026-06-18/
LOCATION:MAT Gym\, 761 NW Federal Hwy\, Stuart\, FL\, 34994\, United States
END:VEVENT
BEGIN:VEVENT
DTSTART;TZID=UTC:20260618T183000
DTEND;TZID=UTC:20260618T192000
DTSTAMP:20260422T144302
CREATED:20260401T205547Z
LAST-MODIFIED:20260401T205723Z
UID:10014616-1781807400-1781810400@martinathletictraining.com
SUMMARY:ABIDE Pilates
DESCRIPTION:45 – 50 minute pilates class let by the ABIDE team.
URL:https://martinathletictraining.com/event/abide-pilates-4-3/2026-06-18/
LOCATION:MAT Gym\, 761 NW Federal Hwy\, Stuart\, FL\, 34994\, United States
END:VEVENT
BEGIN:VEVENT
DTSTART;TZID=UTC:20260619T070000
DTEND;TZID=UTC:20260619T075000
DTSTAMP:20260422T144302
CREATED:20260401T204603Z
LAST-MODIFIED:20260401T204818Z
UID:10012574-1781852400-1781855400@martinathletictraining.com
SUMMARY:ABIDE Pilates
DESCRIPTION:45 – 50 minute pilates class let by the ABIDE team.
URL:https://martinathletictraining.com/event/abide-pilates-5-2/2026-06-19/
LOCATION:MAT Gym\, 761 NW Federal Hwy\, Stuart\, FL\, 34994\, United States
END:VEVENT
BEGIN:VEVENT
DTSTART;TZID=UTC:20260622T070000
DTEND;TZID=UTC:20260622T075000
DTSTAMP:20260422T144302
CREATED:20260401T204603Z
LAST-MODIFIED:20260401T204818Z
UID:10012575-1782111600-1782114600@martinathletictraining.com
SUMMARY:ABIDE Pilates
DESCRIPTION:45 – 50 minute pilates class let by the ABIDE team.
URL:https://martinathletictraining.com/event/abide-pilates-5-2/2026-06-22/
LOCATION:MAT Gym\, 761 NW Federal Hwy\, Stuart\, FL\, 34994\, United States
END:VEVENT
BEGIN:VEVENT
DTSTART;TZID=UTC:20260622T100000
DTEND;TZID=UTC:20260622T105000
DTSTAMP:20260422T144302
CREATED:20260401T205424Z
LAST-MODIFIED:20260401T205429Z
UID:10013857-1782122400-1782125400@martinathletictraining.com
SUMMARY:ABIDE Pilates
DESCRIPTION:45 – 50 minute pilates class let by the ABIDE team.
URL:https://martinathletictraining.com/event/abide-pilates-4-2/2026-06-22/
LOCATION:MAT Gym\, 761 NW Federal Hwy\, Stuart\, FL\, 34994\, United States
END:VEVENT
BEGIN:VEVENT
DTSTART;TZID=UTC:20260623T070000
DTEND;TZID=UTC:20260623T075000
DTSTAMP:20260422T144302
CREATED:20260401T204603Z
LAST-MODIFIED:20260401T204818Z
UID:10012576-1782198000-1782201000@martinathletictraining.com
SUMMARY:ABIDE Pilates
DESCRIPTION:45 – 50 minute pilates class let by the ABIDE team.
URL:https://martinathletictraining.com/event/abide-pilates-5-2/2026-06-23/
LOCATION:MAT Gym\, 761 NW Federal Hwy\, Stuart\, FL\, 34994\, United States
END:VEVENT
END:VCALENDAR