BEGIN:VCALENDAR
VERSION:2.0
PRODID:-//Martin Athletic Training - ECPv6.15.20//NONSGML v1.0//EN
CALSCALE:GREGORIAN
METHOD:PUBLISH
X-ORIGINAL-URL:https://martinathletictraining.com
X-WR-CALDESC:Events for Martin Athletic Training
REFRESH-INTERVAL;VALUE=DURATION:PT1H
X-Robots-Tag:noindex
X-PUBLISHED-TTL:PT1H
BEGIN:VTIMEZONE
TZID:UTC
BEGIN:STANDARD
TZOFFSETFROM:+0000
TZOFFSETTO:+0000
TZNAME:UTC
DTSTART:20240101T000000
END:STANDARD
END:VTIMEZONE
BEGIN:VEVENT
DTSTART;TZID=UTC:20251113T123000
DTEND;TZID=UTC:20251113T133000
DTSTAMP:20260420T155909
CREATED:20251107T173255Z
LAST-MODIFIED:20251113T164330Z
UID:10000765-1763037000-1763040600@martinathletictraining.com
SUMMARY:PT
DESCRIPTION:PT
URL:https://martinathletictraining.com/event/pt/
LOCATION:MAT Gym\, 761 NW Federal Hwy\, Stuart\, FL\, 34994\, United States
END:VEVENT
BEGIN:VEVENT
DTSTART;TZID=UTC:20251119T160000
DTEND;TZID=UTC:20251121T170000
DTSTAMP:20260420T155909
CREATED:20251125T175226Z
LAST-MODIFIED:20251125T175226Z
UID:10000768-1763568000-1763744400@martinathletictraining.com
SUMMARY:PT
DESCRIPTION:pt
URL:https://martinathletictraining.com/event/pt-2/
LOCATION:MAT Gym\, 761 NW Federal Hwy\, Stuart\, FL\, 34994\, United States
END:VEVENT
BEGIN:VEVENT
DTSTART;TZID=UTC:20251120T160000
DTEND;TZID=UTC:20251120T170000
DTSTAMP:20260420T155909
CREATED:20251125T175248Z
LAST-MODIFIED:20251125T175248Z
UID:10000767-1763654400-1763658000@martinathletictraining.com
SUMMARY:PT
DESCRIPTION:pt
URL:https://martinathletictraining.com/event/pt-3/
LOCATION:MAT Gym\, 761 NW Federal Hwy\, Stuart\, FL\, 34994\, United States
END:VEVENT
END:VCALENDAR